BEGIN:VCALENDAR
VERSION:2.0
PRODID:-// - ECPv6.15.20//NONSGML v1.0//EN
CALSCALE:GREGORIAN
METHOD:PUBLISH
X-ORIGINAL-URL:https://sandycovetsc.ie
X-WR-CALDESC:Events for 
REFRESH-INTERVAL;VALUE=DURATION:PT1H
X-Robots-Tag:noindex
X-PUBLISHED-TTL:PT1H
BEGIN:VTIMEZONE
TZID:UTC
BEGIN:STANDARD
TZOFFSETFROM:+0000
TZOFFSETTO:+0000
TZNAME:UTC
DTSTART:20240101T000000
END:STANDARD
END:VTIMEZONE
BEGIN:VEVENT
DTSTART;TZID=UTC:20260419T120000
DTEND;TZID=UTC:20260419T150000
DTSTAMP:20260420T113722
CREATED:20260325T113446Z
LAST-MODIFIED:20260325T113446Z
UID:29233-1776600000-1776610800@sandycovetsc.ie
SUMMARY:Ladies Teams Tennis
DESCRIPTION:12pm to 3pm
URL:https://sandycovetsc.ie/event/ladies-teams-tennis-2/
CATEGORIES:Senior Tennis еvents
END:VEVENT
BEGIN:VEVENT
DTSTART;TZID=UTC:20260412T140000
DTEND;TZID=UTC:20260412T170000
DTSTAMP:20260420T113722
CREATED:20260325T113353Z
LAST-MODIFIED:20260325T113353Z
UID:29231-1776002400-1776013200@sandycovetsc.ie
SUMMARY:Ladies Teams Tennis
DESCRIPTION:2pm to 5pm
URL:https://sandycovetsc.ie/event/ladies-teams-tennis/
CATEGORIES:Senior Tennis еvents
END:VEVENT
BEGIN:VEVENT
DTSTART;VALUE=DATE:20260220
DTEND;VALUE=DATE:20260221
DTSTAMP:20260420T113722
CREATED:20260223T124344Z
LAST-MODIFIED:20260223T124344Z
UID:29136-1771545600-1771631999@sandycovetsc.ie
SUMMARY:Blue & Gold commences
DESCRIPTION:
URL:https://sandycovetsc.ie/event/blue-gold-commences/
CATEGORIES:Senior Tennis еvents
END:VEVENT
BEGIN:VEVENT
DTSTART;VALUE=DATE:20260207
DTEND;VALUE=DATE:20260208
DTSTAMP:20260420T113722
CREATED:20260223T124130Z
LAST-MODIFIED:20260223T124130Z
UID:29134-1770422400-1770508799@sandycovetsc.ie
SUMMARY:Easter Cup commences
DESCRIPTION:
URL:https://sandycovetsc.ie/event/easter-cup-commences/
CATEGORIES:Senior Tennis еvents
END:VEVENT
BEGIN:VEVENT
DTSTART;VALUE=DATE:20260125
DTEND;VALUE=DATE:20260126
DTSTAMP:20260420T113722
CREATED:20260223T123032Z
LAST-MODIFIED:20260223T123032Z
UID:29121-1769299200-1769385599@sandycovetsc.ie
SUMMARY:Winter League commences
DESCRIPTION:
URL:https://sandycovetsc.ie/event/winter-league-commences/
CATEGORIES:Senior Tennis еvents
END:VEVENT
BEGIN:VEVENT
DTSTART;TZID=UTC:20251214T000000
DTEND;TZID=UTC:20251214T000000
DTSTAMP:20260420T113722
CREATED:20251105T124841Z
LAST-MODIFIED:20251105T124841Z
UID:28695-1765670400-1765670400@sandycovetsc.ie
SUMMARY:Turkey Tournament
DESCRIPTION:
URL:https://sandycovetsc.ie/event/turkey-tournament/
CATEGORIES:Senior Tennis еvents
END:VEVENT
BEGIN:VEVENT
DTSTART;TZID=UTC:20251212T190000
DTEND;TZID=UTC:20251212T233000
DTSTAMP:20260420T113722
CREATED:20251105T124732Z
LAST-MODIFIED:20251105T124906Z
UID:28693-1765566000-1765582200@sandycovetsc.ie
SUMMARY:Men’s Christmas Party
DESCRIPTION:
URL:https://sandycovetsc.ie/event/mens-christmas-party/
CATEGORIES:Senior Tennis еvents
END:VEVENT
BEGIN:VEVENT
DTSTART;TZID=UTC:20251205T190000
DTEND;TZID=UTC:20251205T233000
DTSTAMP:20260420T113722
CREATED:20251105T124648Z
LAST-MODIFIED:20251105T124914Z
UID:28691-1764961200-1764977400@sandycovetsc.ie
SUMMARY: Ladies’ Christmas Party
DESCRIPTION:
URL:https://sandycovetsc.ie/event/ladies-christmas-party/
CATEGORIES:Senior Tennis еvents
END:VEVENT
BEGIN:VEVENT
DTSTART;TZID=UTC:20251128T190000
DTEND;TZID=UTC:20251128T233000
DTSTAMP:20260420T113722
CREATED:20251105T124551Z
LAST-MODIFIED:20251105T124928Z
UID:28689-1764356400-1764372600@sandycovetsc.ie
SUMMARY:Bernie’s Piano Bar and Art Auction for Gaza
DESCRIPTION:
URL:https://sandycovetsc.ie/event/bernies-piano-bar-and-art-auction-for-gaza/
CATEGORIES:Senior Tennis еvents
END:VEVENT
BEGIN:VEVENT
DTSTART;TZID=UTC:20251125T200000
DTEND;TZID=UTC:20251125T213000
DTSTAMP:20260420T113722
CREATED:20251105T124418Z
LAST-MODIFIED:20251105T124941Z
UID:28687-1764100800-1764106200@sandycovetsc.ie
SUMMARY:AGM
DESCRIPTION:
URL:https://sandycovetsc.ie/event/agm/
CATEGORIES:Senior Tennis еvents,Sport clubs
END:VEVENT
BEGIN:VEVENT
DTSTART;TZID=UTC:20250830T193000
DTEND;TZID=UTC:20250830T233000
DTSTAMP:20260420T113722
CREATED:20250722T142119Z
LAST-MODIFIED:20250818T150414Z
UID:27537-1756582200-1756596600@sandycovetsc.ie
SUMMARY:Championships Dinner - Killiney Golf Club
DESCRIPTION:
URL:https://sandycovetsc.ie/event/championships-dinner-killiney-golf-club/
CATEGORIES:Senior Tennis еvents
ATTACH;FMTTYPE=image/jpeg:https://sandycovetsc.ie/wp-content/uploads/2025/07/Killiney-Golf-Club-3.jpg
END:VEVENT
BEGIN:VEVENT
DTSTART;VALUE=DATE:20250830
DTEND;VALUE=DATE:20250831
DTSTAMP:20260420T113722
CREATED:20250713T160718Z
LAST-MODIFIED:20250818T150928Z
UID:26896-1756512000-1756598399@sandycovetsc.ie
SUMMARY:Senior Championships
DESCRIPTION:
URL:https://sandycovetsc.ie/event/senior-championships/
CATEGORIES:Senior Tennis еvents
ATTACH;FMTTYPE=image/jpeg:https://sandycovetsc.ie/wp-content/uploads/2025/07/2025-Championships-e1754488711526.jpg
END:VEVENT
BEGIN:VEVENT
DTSTART;VALUE=DATE:20250823
DTEND;VALUE=DATE:20250824
DTSTAMP:20260420T113722
CREATED:20250722T135930Z
LAST-MODIFIED:20250819T004938Z
UID:27534-1755907200-1755993599@sandycovetsc.ie
SUMMARY:Junior Tennis Championships
DESCRIPTION:
URL:https://sandycovetsc.ie/event/junior-tennis-championships/
CATEGORIES:Senior Tennis еvents
ATTACH;FMTTYPE=image/jpeg:https://sandycovetsc.ie/wp-content/uploads/2025/07/Junior-Championships-2025-e1754488882938.jpeg
END:VEVENT
END:VCALENDAR