BEGIN:VCALENDAR
VERSION:2.0
PRODID:-// - ECPv6.15.20//NONSGML v1.0//EN
CALSCALE:GREGORIAN
METHOD:PUBLISH
X-ORIGINAL-URL:https://sandycovetsc.ie
X-WR-CALDESC:Events for 
REFRESH-INTERVAL;VALUE=DURATION:PT1H
X-Robots-Tag:noindex
X-PUBLISHED-TTL:PT1H
BEGIN:VTIMEZONE
TZID:UTC
BEGIN:STANDARD
TZOFFSETFROM:+0000
TZOFFSETTO:+0000
TZNAME:UTC
DTSTART:20250101T000000
END:STANDARD
END:VTIMEZONE
BEGIN:VEVENT
DTSTART;VALUE=DATE:20261018
DTEND;VALUE=DATE:20261019
DTSTAMP:20260420T202804
CREATED:20260223T104945Z
LAST-MODIFIED:20260401T170301Z
UID:29075-1792281600-1792367999@sandycovetsc.ie
SUMMARY:Senior League for Men & Ladies Finals
DESCRIPTION:
URL:https://sandycovetsc.ie/event/senior-league-finals/
CATEGORIES:Senior Tennis еvents
END:VEVENT
END:VCALENDAR