BEGIN:VCALENDAR
VERSION:2.0
PRODID:-// - ECPv6.15.20//NONSGML v1.0//EN
CALSCALE:GREGORIAN
METHOD:PUBLISH
X-ORIGINAL-URL:https://sandycovetsc.ie
X-WR-CALDESC:Events for 
REFRESH-INTERVAL;VALUE=DURATION:PT1H
X-Robots-Tag:noindex
X-PUBLISHED-TTL:PT1H
BEGIN:VTIMEZONE
TZID:UTC
BEGIN:STANDARD
TZOFFSETFROM:+0000
TZOFFSETTO:+0000
TZNAME:UTC
DTSTART:20250101T000000
END:STANDARD
END:VTIMEZONE
BEGIN:VEVENT
DTSTART;VALUE=DATE:20260902
DTEND;VALUE=DATE:20260903
DTSTAMP:20260420T175721
CREATED:20260223T101818Z
LAST-MODIFIED:20260401T170215Z
UID:29067-1788307200-1788393599@sandycovetsc.ie
SUMMARY:O60's Women's League commences
DESCRIPTION:
URL:https://sandycovetsc.ie/event/o60-womens-league/
CATEGORIES:Senior Tennis еvents
END:VEVENT
BEGIN:VEVENT
DTSTART;VALUE=DATE:20260903
DTEND;VALUE=DATE:20260904
DTSTAMP:20260420T175721
CREATED:20260223T120350Z
LAST-MODIFIED:20260401T170221Z
UID:29093-1788393600-1788479999@sandycovetsc.ie
SUMMARY:O65's Men's League Commences
DESCRIPTION:
URL:https://sandycovetsc.ie/event/o65s-mens-league-commences/
CATEGORIES:Senior Tennis еvents
END:VEVENT
BEGIN:VEVENT
DTSTART;VALUE=DATE:20260928
DTEND;VALUE=DATE:20260929
DTSTAMP:20260420T175721
CREATED:20260223T120938Z
LAST-MODIFIED:20260401T170242Z
UID:29100-1790553600-1790639999@sandycovetsc.ie
SUMMARY:Men's Floodlight League Commences
DESCRIPTION:
URL:https://sandycovetsc.ie/event/mens-floodlight-league-commences/
CATEGORIES:Senior Tennis еvents
END:VEVENT
BEGIN:VEVENT
DTSTART;VALUE=DATE:20260929
DTEND;VALUE=DATE:20260930
DTSTAMP:20260420T175721
CREATED:20260223T121030Z
LAST-MODIFIED:20260401T170248Z
UID:29102-1790640000-1790726399@sandycovetsc.ie
SUMMARY:Ladies Floodlight League Commences
DESCRIPTION:
URL:https://sandycovetsc.ie/event/ladies-floodlight-league-commences/
CATEGORIES:Senior Tennis еvents
END:VEVENT
END:VCALENDAR