BEGIN:VCALENDAR
VERSION:2.0
PRODID:-// - ECPv6.15.20//NONSGML v1.0//EN
CALSCALE:GREGORIAN
METHOD:PUBLISH
X-ORIGINAL-URL:https://sandycovetsc.ie
X-WR-CALDESC:Events for 
REFRESH-INTERVAL;VALUE=DURATION:PT1H
X-Robots-Tag:noindex
X-PUBLISHED-TTL:PT1H
BEGIN:VTIMEZONE
TZID:UTC
BEGIN:STANDARD
TZOFFSETFROM:+0000
TZOFFSETTO:+0000
TZNAME:UTC
DTSTART:20250101T000000
END:STANDARD
END:VTIMEZONE
BEGIN:VEVENT
DTSTART;VALUE=DATE:20260814
DTEND;VALUE=DATE:20260815
DTSTAMP:20260420T163915
CREATED:20260223T100830Z
LAST-MODIFIED:20260401T170129Z
UID:29057-1786665600-1786751999@sandycovetsc.ie
SUMMARY:Mixed League Finals
DESCRIPTION:
URL:https://sandycovetsc.ie/event/mixed-league-finals/
CATEGORIES:Senior Tennis еvents
END:VEVENT
BEGIN:VEVENT
DTSTART;TZID=UTC:20260816T080000
DTEND;TZID=UTC:20260828T170000
DTSTAMP:20260420T163915
CREATED:20260128T134046Z
LAST-MODIFIED:20260401T170133Z
UID:29016-1786867200-1787936400@sandycovetsc.ie
SUMMARY:Club Championships 2026
DESCRIPTION:
URL:https://sandycovetsc.ie/event/club-championships-2026/
CATEGORIES:Senior Tennis еvents
END:VEVENT
BEGIN:VEVENT
DTSTART;VALUE=DATE:20260829
DTEND;VALUE=DATE:20260830
DTSTAMP:20260420T163915
CREATED:20260223T101208Z
LAST-MODIFIED:20260401T170150Z
UID:29063-1787961600-1788047999@sandycovetsc.ie
SUMMARY:Club Senior Championships Finals
DESCRIPTION:An exciting day of tennis expected with all the finals being played today.
URL:https://sandycovetsc.ie/event/club-senior-championships-finals/
CATEGORIES:Senior Tennis еvents
END:VEVENT
BEGIN:VEVENT
DTSTART;VALUE=DATE:20260830
DTEND;VALUE=DATE:20260831
DTSTAMP:20260420T163915
CREATED:20260223T121342Z
LAST-MODIFIED:20260401T170206Z
UID:29104-1788048000-1788134399@sandycovetsc.ie
SUMMARY:Senior League for Men & Ladies commences
DESCRIPTION:
URL:https://sandycovetsc.ie/event/senior-league-commences/
CATEGORIES:Senior Tennis еvents
END:VEVENT
END:VCALENDAR