BEGIN:VCALENDAR
VERSION:2.0
PRODID:-// - ECPv6.15.20//NONSGML v1.0//EN
CALSCALE:GREGORIAN
METHOD:PUBLISH
X-ORIGINAL-URL:https://sandycovetsc.ie
X-WR-CALDESC:Events for 
REFRESH-INTERVAL;VALUE=DURATION:PT1H
X-Robots-Tag:noindex
X-PUBLISHED-TTL:PT1H
BEGIN:VTIMEZONE
TZID:UTC
BEGIN:STANDARD
TZOFFSETFROM:+0000
TZOFFSETTO:+0000
TZNAME:UTC
DTSTART:20240101T000000
END:STANDARD
END:VTIMEZONE
BEGIN:VEVENT
DTSTART;TZID=UTC:20260205T190000
DTEND;TZID=UTC:20260205T233000
DTSTAMP:20260420T101931
CREATED:20260127T124057Z
LAST-MODIFIED:20260223T123207Z
UID:28992-1770318000-1770334200@sandycovetsc.ie
SUMMARY:Six Nations - €4 drinks
DESCRIPTION:The Six Nations match will be shown live on the big screen on Thursday evening. \nEnjoy all alcoholic drinks for €4 from 7.30pm until 9pm\, with complimentary snacks served on the night. \nPlease come along and support the bar.
URL:https://sandycovetsc.ie/event/six-nations-night/
CATEGORIES:Sport clubs
END:VEVENT
BEGIN:VEVENT
DTSTART;TZID=UTC:20251125T200000
DTEND;TZID=UTC:20251125T213000
DTSTAMP:20260420T101931
CREATED:20251105T124418Z
LAST-MODIFIED:20251105T124941Z
UID:28687-1764100800-1764106200@sandycovetsc.ie
SUMMARY:AGM
DESCRIPTION:
URL:https://sandycovetsc.ie/event/agm/
CATEGORIES:Senior Tennis еvents,Sport clubs
END:VEVENT
END:VCALENDAR