BEGIN:VCALENDAR
VERSION:2.0
PRODID:-// - ECPv6.15.20//NONSGML v1.0//EN
CALSCALE:GREGORIAN
METHOD:PUBLISH
X-ORIGINAL-URL:https://sandycovetsc.ie
X-WR-CALDESC:Events for 
REFRESH-INTERVAL;VALUE=DURATION:PT1H
X-Robots-Tag:noindex
X-PUBLISHED-TTL:PT1H
BEGIN:VTIMEZONE
TZID:UTC
BEGIN:STANDARD
TZOFFSETFROM:+0000
TZOFFSETTO:+0000
TZNAME:UTC
DTSTART:20250101T000000
END:STANDARD
END:VTIMEZONE
BEGIN:VEVENT
DTSTART;VALUE=DATE:20260307
DTEND;VALUE=DATE:20260308
DTSTAMP:20260420T124424
CREATED:20260223T122507Z
LAST-MODIFIED:20260223T122507Z
UID:29113-1772841600-1772927999@sandycovetsc.ie
SUMMARY:Stars & Stripes Finals
DESCRIPTION:
URL:https://sandycovetsc.ie/event/stars-stripes-finals/
CATEGORIES:Junior Tennis
END:VEVENT
END:VCALENDAR