BEGIN:VCALENDAR
VERSION:2.0
PRODID:-// - ECPv6.15.20//NONSGML v1.0//EN
CALSCALE:GREGORIAN
METHOD:PUBLISH
X-ORIGINAL-URL:https://sandycovetsc.ie
X-WR-CALDESC:Events for 
REFRESH-INTERVAL;VALUE=DURATION:PT1H
X-Robots-Tag:noindex
X-PUBLISHED-TTL:PT1H
BEGIN:VTIMEZONE
TZID:UTC
BEGIN:STANDARD
TZOFFSETFROM:+0000
TZOFFSETTO:+0000
TZNAME:UTC
DTSTART:20250101T000000
END:STANDARD
END:VTIMEZONE
BEGIN:VEVENT
DTSTART;VALUE=DATE:20260211
DTEND;VALUE=DATE:20260219
DTSTAMP:20260421T093450
CREATED:20260223T123913Z
LAST-MODIFIED:20260223T123913Z
UID:29132-1770768000-1771459199@sandycovetsc.ie
SUMMARY:Junior Squash Coaching
DESCRIPTION:
URL:https://sandycovetsc.ie/event/junior-squash-coaching/
CATEGORIES:Junior Squash Events
END:VEVENT
END:VCALENDAR