BEGIN:VCALENDAR
VERSION:2.0
PRODID:-// - ECPv6.15.20//NONSGML v1.0//EN
CALSCALE:GREGORIAN
METHOD:PUBLISH
X-ORIGINAL-URL:https://sandycovetsc.ie
X-WR-CALDESC:Events for 
REFRESH-INTERVAL;VALUE=DURATION:PT1H
X-Robots-Tag:noindex
X-PUBLISHED-TTL:PT1H
BEGIN:VTIMEZONE
TZID:UTC
BEGIN:STANDARD
TZOFFSETFROM:+0000
TZOFFSETTO:+0000
TZNAME:UTC
DTSTART:20250101T000000
END:STANDARD
END:VTIMEZONE
BEGIN:VEVENT
DTSTART;VALUE=DATE:20261104
DTEND;VALUE=DATE:20261105
DTSTAMP:20260421T114140
CREATED:20260223T110230Z
LAST-MODIFIED:20260401T170314Z
UID:29081-1793750400-1793836799@sandycovetsc.ie
SUMMARY:Halloween Camp
DESCRIPTION:Camp for Juniors \n11am – 1pm for Under 9’s \n2pm – 5pm for over 9’s
URL:https://sandycovetsc.ie/event/halloween-camp/
CATEGORIES:Junior Camp
END:VEVENT
END:VCALENDAR