BEGIN:VCALENDAR
VERSION:2.0
PRODID:-// - ECPv6.15.20//NONSGML v1.0//EN
CALSCALE:GREGORIAN
METHOD:PUBLISH
X-ORIGINAL-URL:https://sandycovetsc.ie
X-WR-CALDESC:Events for 
REFRESH-INTERVAL;VALUE=DURATION:PT1H
X-Robots-Tag:noindex
X-PUBLISHED-TTL:PT1H
BEGIN:VTIMEZONE
TZID:UTC
BEGIN:STANDARD
TZOFFSETFROM:+0000
TZOFFSETTO:+0000
TZNAME:UTC
DTSTART:20250101T000000
END:STANDARD
END:VTIMEZONE
BEGIN:VEVENT
DTSTART;VALUE=DATE:20260216
DTEND;VALUE=DATE:20260221
DTSTAMP:20260421T113031
CREATED:20260223T123825Z
LAST-MODIFIED:20260223T123825Z
UID:29130-1771200000-1771631999@sandycovetsc.ie
SUMMARY:Mid Term Camp
DESCRIPTION:
URL:https://sandycovetsc.ie/event/mid-term-camp-2/
CATEGORIES:Junior Camp
END:VEVENT
END:VCALENDAR